BEGIN:VCALENDAR
VERSION:2.0
PRODID:spatie/icalendar-generator
DESCRIPTION:Veranstaltungen von Evangelische Kirchengemeinde Frankfurt a.M.
 -Riedberg
X-WR-CALDESC:Veranstaltungen von Evangelische Kirchengemeinde Frankfurt a.M
 .-Riedberg
REFRESH-INTERVAL;VALUE=DURATION:PT1440M
X-PUBLISHED-TTL:PT1440M
BEGIN:VTIMEZONE
TZID:Europe/Berlin
BEGIN:STANDARD
DTSTART:20251026T030000Z
TZOFFSETFROM:+0200
TZOFFSETTO:+0100
END:STANDARD
BEGIN:DAYLIGHT
DTSTART:20260329T020000Z
TZOFFSETFROM:+0100
TZOFFSETTO:+0200
END:DAYLIGHT
END:VTIMEZONE
BEGIN:VTIMEZONE
TZID:UTC
BEGIN:STANDARD
DTSTART:20250725T083807Z
TZOFFSETFROM:+0000
TZOFFSETTO:+0000
END:STANDARD
END:VTIMEZONE
BEGIN:VEVENT
UID:310-271
DTSTAMP:20260421T083807Z
SUMMARY:Bowling-Event für Jugendliche
LOCATION:
ORGANIZER;CN=Caroline Wornath:MAILTO:caroline@wornath.de
DTSTART;TZID=Europe/Berlin:20260411T180000
DTEND;TZID=Europe/Berlin:20260411T200000
X-ALT-DESC;FMTTYPE=TEXT/HTML:Bowling-Event: Samstag\, 11. April\, 18 bis 20
  Uhr\, Main-Bowling\, Berkersheimer Weg 104\, 60433 Frankfurt
CATEGORIES:General
URL;VALUE=URI:https://riedberggemeinde.de/mc-events/bowling-event-fuer-juge
 ndliche/
METHOD:PUBLISH
END:VEVENT
END:VCALENDAR